{"text_format":"1","workbook":"xlsx","n_sheets":1,"sheets":["Draw64"],"not_rendered":{"charts":0,"images":0,"macros":1,"external_links":0,"defined_names":1,"comments":0,"pivot_tables":0},"unopened":[],"bounds":{"document_bytes":16777216,"sheet_cells":100000,"rows_first":2000,"rows_last":500,"rows_between":2000,"halvings":0,"cell_chars":16384,"cell_head_chars":4096},"cells_cut":0,"cells_raw":0,"read":"whole","date_system":"1900"}

{"sheet":"Draw64","index":0,"n_rows":68,"n_cols":12,"rows_kept":68,"cut":false,"hidden":false,"merged":[[64,13,64,14],[53,13,53,14],[63,13,63,14],[1,1,1,3],[0,0,0,12]]}
["ΣΤ' ΕΝΩΣΗ, ΟΡΕΝ ΠΡΟΠΑΙΔΙΚΟ U10, Ο.Α. ΚΟΡΙΝΘΟΥ, 27/5/2023-28/5/2023"]
[null,64,null,null,null,32,null,16,null,8,null,"4 & 2"]
["A/A","Ονοματεπώνυμο","επώνυμο","Σύλλογος"]
[1,"ΦΑΦΟΥΤΗΣ ΗΛΙΑΣ",{"$f":"IF(#REF!>0,LEFT(B4,FIND(\" \",B4)-1),\"\")","v":{"$error":"#REF!"}},"Α.Ο.Α. ΠΑΤΡΩΝ",null,"ΦΑΦΟΥΤΗΣ"]
[2,"BYE",{"$f":"IF(#REF!>0,LEFT(B5,FIND(\" \",B5)-1),\"\")","v":{"$error":"#REF!"}},null,null,null,1]
[3,"ΖΥΓΟΓΙΑΝΝΗΣ ΜΑΡΙΟΣ",{"$f":"IF(#REF!>0,LEFT(B6,FIND(\" \",B6)-1),\"\")","v":{"$error":"#REF!"}},"Ο.Α ΚΟΡΙΝΘΟΥ",2,"ΖΥΓΟΓΙΑΝΝΗΣ"]
[4,"BYE",{"$f":"IF(#REF!>0,LEFT(B7,FIND(\" \",B7)-1),\"\")","v":{"$error":"#REF!"}},null,null,null,null,null,1]
[5,"ΝΤΑΝΟΣ ΝΙΚΟΛΑΟΣ",{"$f":"IF(#REF!>0,LEFT(B8,FIND(\" \",B8)-1),\"\")","v":{"$error":"#REF!"}},"Α.Ο. ΣΙΚΥΩΝΟΣ ΚΙΑΤΟΥ",1]
[6,"ΠΑΠΑΓΕΩΡΓΙΟΥ ΒΑΣΙΛΗΣ",{"$f":"IF(#REF!>0,LEFT(B9,FIND(\" \",B9)-1),\"\")","v":{"$error":"#REF!"}},"Ο.Α. ΚΟΡΙΝΘΟΥ",null,null,2]
[7,"BYE",{"$f":"IF(#REF!>0,LEFT(B10,FIND(\" \",B10)-1),\"\")","v":{"$error":"#REF!"}},null,2,"ΤΣΟΥΤΣΟΣ"]
[8,"ΤΣΟΥΤΣΟΣ ΚΩΝ/ΝΟΣ",{"$f":"IF(#REF!>0,LEFT(B11,FIND(\" \",B11)-1),\"\")","v":{"$error":"#REF!"}},"Α.Ε.Κ. ΤΡΙΠΟΛΗΣ"]
[9,"ΚΑΡΣΙΩΤΗΣ ΝΙΚΟΣ",{"$f":"IF(#REF!>0,LEFT(B12,FIND(\" \",B12)-1),\"\")","v":{"$error":"#REF!"}},"Ο.Α. ΚΟΡΙΝΘΟΥ",1,"ΚΑΡΣΙΩΤΗΣ "]
[10,"BYE",{"$f":"IF(#REF!>0,LEFT(B13,FIND(\" \",B13)-1),\"\")","v":{"$error":"#REF!"}},null,null,null,1]
[11,"BYE",{"$f":"IF(#REF!>0,LEFT(B14,FIND(\" \",B14)-1),\"\")","v":{"$error":"#REF!"}},null,2,"ΝΙΚΟΛΑΟΥ Σ."]
[12,"ΝΙΚΟΛΑΟΥ ΣΤΕΦΑΝΟΣ",{"$f":"IF(#REF!>0,LEFT(B15,FIND(\" \",B15)-1),\"\")","v":{"$error":"#REF!"}},"Α.Ε.Κ. ΤΡΙΠΟΛΗΣ"]
[13,"ΛΑΜΙΑΣ ΠΕΡΙΚΛΗΣ",{"$f":"IF(#REF!>0,LEFT(B16,FIND(\" \",B16)-1),\"\")","v":{"$error":"#REF!"}},"Ο.Α. ΚΑΛΑΜΑΤΑΣ",1,"ΛΑΜΙΑΣ"]
[14,"BYE",{"$f":"IF(#REF!>0,LEFT(B17,FIND(\" \",B17)-1),\"\")","v":{"$error":"#REF!"}},null,null,null,2]
[15,"BYE",{"$f":"IF(#REF!>0,LEFT(B18,FIND(\" \",B18)-1),\"\")","v":{"$error":"#REF!"}},null,2,"ΜΑΡΙΝΑΡΟΣ"]
[16,"ΜΑΡΙΝΑΡΟΣ ΑΛΕΞΗΣ",{"$f":"IF(#REF!>0,LEFT(B19,FIND(\" \",B19)-1),\"\")","v":{"$error":"#REF!"}},"Α.Ε.Τ. ΝΙΚΗ ΠΑΤΡΩΝ"]
[17,"ΡΟΥΠΑΣ ΧΡΗΣΤΟΣ",{"$f":"IF(#REF!>0,LEFT(B20,FIND(\" \",B20)-1),\"\")","v":{"$error":"#REF!"}},"ΧΡΥΣΟΣ Ο.Α.",1,"ΡΟΥΠΑΣ"]
[18,"BYE",{"$f":"IF(#REF!>0,LEFT(B21,FIND(\" \",B21)-1),\"\")","v":{"$error":"#REF!"}},null,null,null,1]
[19,"ΣΚΛΗΡΗΣ ΘΑΝΟΣ",{"$f":"IF(#REF!>0,LEFT(B22,FIND(\" \",B22)-1),\"\")","v":{"$error":"#REF!"}},"\"ΖΕΥΣ ΠΑΟ ΚΟΡΙΝΘΟΥ",2]
[20,"ΚΑΜΠΟΛΗΣ ΚΩΝ/ΝΟΣ",{"$f":"IF(#REF!>0,LEFT(B23,FIND(\" \",B23)-1),\"\")","v":{"$error":"#REF!"}},"Ο.Α. ΚΟΡΙΝΘΟΥ"]
[21,"ΚΟΛΛΙΟΠΟΥΛΟΣ ΧΑΡΑΛΑΜΠΟΣ",{"$f":"IF(#REF!>0,LEFT(B24,FIND(\" \",B24)-1),\"\")","v":{"$error":"#REF!"}},"Α.Ο. ΧΑΪΔΑΡΙΟΥ",1,"ΚΟΛΛΙΟΠΟΥΛΟΣ"]
[22,"BYE",{"$f":"IF(#REF!>0,LEFT(B25,FIND(\" \",B25)-1),\"\")","v":{"$error":"#REF!"}},null,null,null,2]
[23,"BYE",{"$f":"IF(#REF!>0,LEFT(B26,FIND(\" \",B26)-1),\"\")","v":{"$error":"#REF!"}},null,2,"ΖΗΛΙΔΗΣ"]
[24,"ΖΗΛΙΔΗΣ ΧΡΗΣΤΟΣ",{"$f":"IF(#REF!>0,LEFT(B27,FIND(\" \",B27)-1),\"\")","v":{"$error":"#REF!"}},"Α.Ο.Α. ΠΑΤΡΩΝ"]
[25,"ΣΙΑΒΕΛΗΣ ΜΙΧΑΛΗΣ",{"$f":"IF(#REF!>0,LEFT(B28,FIND(\" \",B28)-1),\"\")","v":{"$error":"#REF!"}},"Ο.Α. ΑΙΓΙΑΛΕΙΑΣ",1,"ΣΙΑΒΕΛΗΣ"]
[26,"BYE",{"$f":"IF(#REF!>0,LEFT(B29,FIND(\" \",B29)-1),\"\")","v":{"$error":"#REF!"}},null,null,null,1]
[27,"ΒΑΣΙΛΕΙΟΥ ΜΙΛΤΙΑΔΗΣ",{"$f":"IF(#REF!>0,LEFT(B30,FIND(\" \",B30)-1),\"\")","v":{"$error":"#REF!"}},"Α.Ε.Τ. ΝΙΚΗ ΠΑΤΡΩΝ",2,"ΒΑΣΙΛΕΙΟΥ"]
[28,"BYE",{"$f":"IF(#REF!>0,LEFT(B31,FIND(\" \",B31)-1),\"\")","v":{"$error":"#REF!"}},null,null,null,null,null,2]
[29,"ΚΥΜΠΟΥΡΟΠΟΥΛΟΣ ΓΙΑΝΝΗΣ",{"$f":"IF(#REF!>0,LEFT(B32,FIND(\" \",B32)-1),\"\")","v":{"$error":"#REF!"}},"ΡΗΓΑΣ Α.Ο.Α.Α.",1,"ΚΥΜΠΟΥΡΟΠΟΥΛΟΣ"]
[30,"BYE",{"$f":"IF(#REF!>0,LEFT(B33,FIND(\" \",B33)-1),\"\")","v":{"$error":"#REF!"}},null,null,null,2]
[31,"BYE",{"$f":"IF(#REF!>0,LEFT(B34,FIND(\" \",B34)-1),\"\")","v":{"$error":"#REF!"}},null,2,"ΑΡΓΥΡΟΠΟΥΛΟΣ"]
[32,"ΑΡΓΥΡΟΠΟΥΛΟΣ ΟΡΦΕΑΣ",{"$f":"IF(#REF!>0,LEFT(B35,FIND(\" \",B35)-1),\"\")","v":{"$error":"#REF!"}},"ΧΡΥΣΟΣ Ο.Α."]
[33,"ΛΟΥΚΑΣ ΝΤΙΝΟΣ",{"$f":"IF(#REF!>0,LEFT(B36,FIND(\" \",B36)-1),\"\")","v":{"$error":"#REF!"}},"ΧΡΥΣΟΣ Ο.Α.",1,"ΛΟΥΚΑΣ"]
[34,"BYE",{"$f":"IF(#REF!>0,LEFT(B37,FIND(\" \",B37)-1),\"\")","v":{"$error":"#REF!"}},null,null,null,1]
[35,"ΝΙΚΟΛΑΟΥ ΓΙΑΝΝΗΣ",{"$f":"IF(#REF!>0,LEFT(B38,FIND(\" \",B38)-1),\"\")","v":{"$error":"#REF!"}},"Α.Ο. ΣΙΚΥΩΝΟΣ ΚΙΑΤΟΥ",2,"ΝΙΚΟΛΑΟΥ Γ."]
[36,"BYE",{"$f":"IF(#REF!>0,LEFT(B39,FIND(\" \",B39)-1),\"\")","v":{"$error":"#REF!"}}]
[37,"BYE",{"$f":"IF(#REF!>0,LEFT(B40,FIND(\" \",B40)-1),\"\")","v":{"$error":"#REF!"}},null,1,"ΜΠΟΥΤΡΑΣ"]
[38,"ΜΠΟΥΤΡΑΣ ΝΙΚΟΛΑΟΣ",{"$f":"IF(#REF!>0,LEFT(B41,FIND(\" \",B41)-1),\"\")","v":{"$error":"#REF!"}},"Ο.Α. ΚΑΛΑΜΑΤΑΣ",null,null,2]
[39,"BYE",{"$f":"IF(#REF!>0,LEFT(B42,FIND(\" \",B42)-1),\"\")","v":{"$error":"#REF!"}},null,2,"ΣΤΑΘΟΠΟΥΛΟΣ"]
[40,"ΣΤΑΘΟΠΟΥΛΟΣ ΘΟΔΩΡΗΣ",{"$f":"IF(#REF!>0,LEFT(B43,FIND(\" \",B43)-1),\"\")","v":{"$error":"#REF!"}},"Α.Ο.Α. ΠΑΤΡΩΝ"]
[41,"ΣΥΨΑΣ ΣΤΡΑΤΟΣ",{"$f":"IF(#REF!>0,LEFT(B44,FIND(\" \",B44)-1),\"\")","v":{"$error":"#REF!"}},"Α.Ε.Τ. ΝΙΚΗ ΠΑΤΡΩΝ",1,"ΣΥΨΑΣ"]
[42,"BYE",{"$f":"IF(#REF!>0,LEFT(B45,FIND(\" \",B45)-1),\"\")","v":{"$error":"#REF!"}},null,null,null,1]
[43,"ΚΟΥΠΕΡ ΚΡΙΣΤΙΑΝ",{"$f":"IF(#REF!>0,LEFT(B46,FIND(\" \",B46)-1),\"\")","v":{"$error":"#REF!"}},"ΡΗΓΑΣ Α.Ο.Α.Α.",2,"ΚΟΥΠΕΡ"]
[44,"BYE",{"$f":"IF(#REF!>0,LEFT(B47,FIND(\" \",B47)-1),\"\")","v":{"$error":"#REF!"}},null,null,null,null,null,2]
[45,"BYE",{"$f":"IF(#REF!>0,LEFT(B48,FIND(\" \",B48)-1),\"\")","v":{"$error":"#REF!"}},null,1,"ΚΥΖΙΡΟΠΟΥΛΟΣ"]
[46,"ΚΥΖΙΡΟΠΟΥΛΟΣ ΜΙΧΑΗΛ",{"$f":"IF(#REF!>0,LEFT(B49,FIND(\" \",B49)-1),\"\")","v":{"$error":"#REF!"}},"Ο.Α. ΚΟΡΙΝΘΟΥ",null,null,2]
[47,"BYE",{"$f":"IF(#REF!>0,LEFT(B50,FIND(\" \",B50)-1),\"\")","v":{"$error":"#REF!"}},null,2,"ΧΟΝΔΡΟΣ"]
[48,"ΧΟΝΔΡΟΣ ΓΕΩΡΓΙΟΣ",{"$f":"IF(#REF!>0,LEFT(B51,FIND(\" \",B51)-1),\"\")","v":{"$error":"#REF!"}},"ΑΙΞΩΝΗ ΓΛΥΦΑΔΑΣ"]
[49,"ΚΩΣΤΟΥΡΟΣ ΓΙΩΡΓΟΣ",{"$f":"IF(#REF!>0,LEFT(B52,FIND(\" \",B52)-1),\"\")","v":{"$error":"#REF!"}},"ΡΗΓΑΣ Α.Ο.Α.Α.",1,"ΚΩΣΤΟΥΡΟΣ"]
[50,"BYE",{"$f":"IF(#REF!>0,LEFT(B53,FIND(\" \",B53)-1),\"\")","v":{"$error":"#REF!"}},null,null,null,1]
[51,"BYE",{"$f":"IF(#REF!>0,LEFT(B54,FIND(\" \",B54)-1),\"\")","v":{"$error":"#REF!"}},null,2,"ΤΡΙΑΝΤΑΦΥΛΛΟΥ"]
[52,"ΤΡΙΑΝΤΑΦΥΛΛΟΥ ΘΑΝΟΣ",{"$f":"IF(#REF!>0,LEFT(B55,FIND(\" \",B55)-1),\"\")","v":{"$error":"#REF!"}},"Α.Ε.Κ. ΤΡΙΠΟΛΗΣ"]
[53,"ΦΑΦΟΥΤΗΣ ΔΗΜΗΤΡΗΣ",{"$f":"IF(#REF!>0,LEFT(B56,FIND(\" \",B56)-1),\"\")","v":{"$error":"#REF!"}},"Α.Ο. ΣΙΚΥΩΝΟΣ ΚΙΑΤΟΥ",1,"ΦΑΦΟΥΤΗΣ Δ."]
[54,"BYE",{"$f":"IF(#REF!>0,LEFT(B57,FIND(\" \",B57)-1),\"\")","v":{"$error":"#REF!"}},null,null,null,2]
[55,"BYE",{"$f":"IF(#REF!>0,LEFT(B58,FIND(\" \",B58)-1),\"\")","v":{"$error":"#REF!"}},null,2,"ΣΚΟΥΠΑΣ"]
[56,"ΣΚΟΥΠΑΣ ΒΥΡΩΝΑΣ",{"$f":"IF(#REF!>0,LEFT(B59,FIND(\" \",B59)-1),\"\")","v":{"$error":"#REF!"}},"\"ΖΕΥΣ\" ΠΑΟ ΚΟΡΙΝΘΟΥ",null,null,null,null,null,null,2]
[57,"ΤΟΛΗΣ ΓΙΩΡΓΟΣ",{"$f":"IF(#REF!>0,LEFT(B60,FIND(\" \",B60)-1),\"\")","v":{"$error":"#REF!"}},"Κ.Ο.Α.",1,"ΤΟΛΗΣ"]
[58,"BYE",{"$f":"IF(#REF!>0,LEFT(B61,FIND(\" \",B61)-1),\"\")","v":{"$error":"#REF!"}},null,null,null,1]
[59,"ΧΑΡΟΣ ΜΠΕΗΣ ΝΙΚΟΛΑΟΣ",{"$f":"IF(#REF!>0,LEFT(B62,FIND(\" \",B62)-1),\"\")","v":{"$error":"#REF!"}},"ΡΗΓΑΣ Α.Ο.Α.Α.",2,"ΧΑΡΟΣ ΜΠΕΗΣ"]
[60,"BYE",{"$f":"IF(#REF!>0,LEFT(B63,FIND(\" \",B63)-1),\"\")","v":{"$error":"#REF!"}}]
[61,"BYE",{"$f":"IF(#REF!>0,LEFT(B64,FIND(\" \",B64)-1),\"\")","v":{"$error":"#REF!"}},null,1,"ΨΥΧΟΜΑΝΗΣ"]
[62,"ΨΥΧΟΜΑΝΗΣ ΚΩΝ/ΝΟΣ",{"$f":"IF(#REF!>0,LEFT(B65,FIND(\" \",B65)-1),\"\")","v":{"$error":"#REF!"}},"Φ.Ο. ΠΥΡΓΟΥ",null,null,2]
[63,"BYE",{"$f":"IF(#REF!>0,LEFT(B66,FIND(\" \",B66)-1),\"\")","v":{"$error":"#REF!"}},null,2,"ΑΓΓΕΛΟΠΟΥΛΟΣ"]
[64,"ΑΓΓΕΛΟΠΟΥΛΟΣ ΑΓΓΕΛΟΣ",{"$f":"IF(#REF!>0,LEFT(B67,FIND(\" \",B67)-1),\"\")","v":{"$error":"#REF!"}},"ΧΡΥΣΟΣ Ο.Α."]
[null,null,null,null,null," ",null," ",null," ",null," "]